BEGIN:VCALENDAR
VERSION:2.0
PRODID:-//Plone.org//NONSGML plone.app.event//EN
X-WR-TIMEZONE:Europe/Zurich
BEGIN:VEVENT
SUMMARY:Pfingstmontag (schulfrei)
DTSTART;VALUE=DATE:20200531
DTEND;VALUE=DATE:20200602
DTSTAMP;VALUE=DATE-TIME:20260423T231616Z
UID:32313737f40e480f9b5e2fa2a2766754@127.0.0.1:10150
CREATED;VALUE=DATE-TIME:20200520T075438Z
LAST-MODIFIED;VALUE=DATE-TIME:20200520T075442Z
URL:https://gymnasium.ai.ch/nuetzliches/termine/pfingstmontag-schulfrei-2
END:VEVENT
END:VCALENDAR
