BEGIN:VCALENDAR
VERSION:2.0
PRODID:-//Plone.org//NONSGML plone.app.event//EN
X-WR-TIMEZONE:Europe/Zurich
BEGIN:VEVENT
SUMMARY:Pfingstmontag (schulfrei)
DTSTART;VALUE=DATE:20210523
DTEND;VALUE=DATE:20210525
DTSTAMP;VALUE=DATE-TIME:20260424T020608Z
UID:422eedba06bd43848695193295600af6@127.0.0.1:10150
CREATED;VALUE=DATE-TIME:20210417T142539Z
LAST-MODIFIED;VALUE=DATE-TIME:20210417T142551Z
URL:https://gymnasium.ai.ch/nuetzliches/termine/pfingstmontag-schulfrei-3
END:VEVENT
END:VCALENDAR
