BEGIN:VCALENDAR
VERSION:2.0
PRODID:-//Plone.org//NONSGML plone.app.event//EN
X-WR-TIMEZONE:Europe/Zurich
BEGIN:VEVENT
SUMMARY:Pfingstmontag (schulfrei)
DTSTART;VALUE=DATE:20220605
DTEND;VALUE=DATE:20220607
DTSTAMP;VALUE=DATE-TIME:20260424T020425Z
UID:baa9dffc6f134e74a93da01ff892a7a4@127.0.0.1:10150
CREATED;VALUE=DATE-TIME:20220118T125901Z
LAST-MODIFIED;VALUE=DATE-TIME:20220118T125904Z
URL:https://gymnasium.ai.ch/nuetzliches/termine/pfingstmontag-schulfrei-4
END:VEVENT
END:VCALENDAR
