BEGIN:VCALENDAR
VERSION:2.0
PRODID:-//Plone.org//NONSGML plone.app.event//EN
X-WR-TIMEZONE:Europe/Zurich
BEGIN:VEVENT
SUMMARY:Pfingstmontag (schulfrei)
DTSTART;VALUE=DATE:20230529
DTEND;VALUE=DATE:20230530
DTSTAMP;VALUE=DATE-TIME:20260424T004824Z
UID:945da36991b44bb0bdb2247f42fa8bb4@127.0.0.1:6081
CREATED;VALUE=DATE-TIME:20221012T163801Z
LAST-MODIFIED;VALUE=DATE-TIME:20221012T163808Z
URL:https://gymnasium.ai.ch/nuetzliches/termine/pfingstmontag-schulfrei-5
END:VEVENT
END:VCALENDAR
