BEGIN:VCALENDAR
VERSION:2.0
PRODID:-//Plone.org//NONSGML plone.app.event//EN
X-WR-TIMEZONE:Europe/Zurich
BEGIN:VEVENT
SUMMARY:Pfingstmontag (schulfrei)
DTSTART;VALUE=DATE:20240520
DTEND;VALUE=DATE:20240521
DTSTAMP;VALUE=DATE-TIME:20260424T004823Z
UID:1845db235f4546e394a3ff0ccf465de4@127.0.0.1:6081
CREATED;VALUE=DATE-TIME:20230714T061830Z
LAST-MODIFIED;VALUE=DATE-TIME:20230714T061835Z
URL:https://gymnasium.ai.ch/nuetzliches/termine/pfingstmontag-schulfrei-6
END:VEVENT
END:VCALENDAR
