BEGIN:VCALENDAR
VERSION:2.0
PRODID:-//Plone.org//NONSGML plone.app.event//EN
X-WR-TIMEZONE:Europe/Zurich
BEGIN:VEVENT
SUMMARY:Pfingstmontag (schulfrei)
DTSTART;VALUE=DATE:20250609
DTEND;VALUE=DATE:20250610
DTSTAMP;VALUE=DATE-TIME:20260424T004824Z
UID:6a779abb4fcb4368b4fa7118ce852230@127.0.0.1:6081
CREATED;VALUE=DATE-TIME:20240927T143221Z
LAST-MODIFIED;VALUE=DATE-TIME:20240927T143230Z
URL:https://gymnasium.ai.ch/nuetzliches/termine/pfingstmontag-schulfrei-7
END:VEVENT
END:VCALENDAR
