BEGIN:VCALENDAR
VERSION:2.0
PRODID:-//Plone.org//NONSGML plone.app.event//EN
X-WR-TIMEZONE:Europe/Zurich
BEGIN:VEVENT
SUMMARY:Pfingstmontag (schulfrei)
DTSTART;VALUE=DATE:20260525
DTEND;VALUE=DATE:20260526
DTSTAMP;VALUE=DATE-TIME:20260424T005309Z
UID:5a0102c963574e9cbd050498df8ab130@127.0.0.1:6081
CREATED;VALUE=DATE-TIME:20250720T190816Z
LAST-MODIFIED;VALUE=DATE-TIME:20250720T190821Z
URL:https://gymnasium.ai.ch/nuetzliches/termine/pfingstmontag-schulfrei-8
END:VEVENT
END:VCALENDAR
