BEGIN:VCALENDAR
VERSION:2.0
PRODID:-//Plone.org//NONSGML plone.app.event//EN
X-WR-TIMEZONE:Europe/Zurich
BEGIN:VEVENT
SUMMARY:Pfingstmontag (schulfrei)
DTSTART;VALUE=DATE:20180520
DTEND;VALUE=DATE:20180522
DTSTAMP;VALUE=DATE-TIME:20260423T231617Z
UID:c469fc93f4ce40c9a5ed4d42ebeddb3d@127.0.0.1:10150
CREATED;VALUE=DATE-TIME:20180307T093556Z
LAST-MODIFIED;VALUE=DATE-TIME:20180511T064429Z
URL:https://gymnasium.ai.ch/nuetzliches/termine/pfingstmontag-schulfrei
END:VEVENT
END:VCALENDAR
