BEGIN:VCALENDAR
VERSION:2.0
PRODID:-//Plone.org//NONSGML plone.app.event//EN
X-WR-TIMEZONE:Europe/Zurich
BEGIN:VEVENT
SUMMARY:Präsentation der Maturaarbeiten: 6. Klassen
DTSTART;VALUE=DATE-TIME:20201207T160000Z
DTEND;VALUE=DATE-TIME:20201207T200000Z
DTSTAMP;VALUE=DATE-TIME:20260424T004952Z
UID:94136a3c15ae43ea8a2f4d42b2a8a0f1@127.0.0.1:10150
CREATED;VALUE=DATE-TIME:20201110T151942Z
LAST-MODIFIED;VALUE=DATE-TIME:20201110T151946Z
URL:https://gymnasium.ai.ch/nuetzliches/termine/praesentation-der-maturaar
 beiten-6-klassen-1
END:VEVENT
END:VCALENDAR
