BEGIN:VCALENDAR
VERSION:2.0
PRODID:-//Plone.org//NONSGML plone.app.event//EN
X-WR-TIMEZONE:Europe/Zurich
BEGIN:VEVENT
SUMMARY:Präsentation der Maturaarbeiten: 6. Klassen
DTSTART;VALUE=DATE-TIME:20201209T160000Z
DTEND;VALUE=DATE-TIME:20201209T200000Z
DTSTAMP;VALUE=DATE-TIME:20260424T004911Z
UID:3632793f191843809918cb14fa76982c@127.0.0.1:10150
CREATED;VALUE=DATE-TIME:20201110T152047Z
LAST-MODIFIED;VALUE=DATE-TIME:20201110T152051Z
URL:https://gymnasium.ai.ch/nuetzliches/termine/praesentation-der-maturaar
 beiten-6-klassen-2
END:VEVENT
END:VCALENDAR
