BEGIN:VCALENDAR
VERSION:2.0
PRODID:-//Plone.org//NONSGML plone.app.event//EN
X-WR-TIMEZONE:Europe/Zurich
BEGIN:VEVENT
SUMMARY:Präsentation der Maturaarbeiten: 6. Klassen
DTSTART;VALUE=DATE-TIME:20201211T160000Z
DTEND;VALUE=DATE-TIME:20201211T200000Z
DTSTAMP;VALUE=DATE-TIME:20260424T004910Z
UID:b14ca6d954dd4eeeb2db446fd9f02e08@127.0.0.1:10150
CREATED;VALUE=DATE-TIME:20201110T152203Z
LAST-MODIFIED;VALUE=DATE-TIME:20201110T152207Z
URL:https://gymnasium.ai.ch/nuetzliches/termine/praesentation-der-maturaar
 beiten-6-klassen-3
END:VEVENT
END:VCALENDAR
