BEGIN:VCALENDAR
VERSION:2.0
PRODID:-//Plone.org//NONSGML plone.app.event//EN
X-WR-TIMEZONE:Europe/Zurich
BEGIN:VEVENT
SUMMARY:Präsentation der Maturaarbeiten: 6. Klassen
DTSTART;VALUE=DATE-TIME:20201210T144500Z
DTEND;VALUE=DATE-TIME:20201210T200000Z
DTSTAMP;VALUE=DATE-TIME:20260423T231754Z
UID:c8943c963b5b4013a51eb5baf819b09c@127.0.0.1:10150
CREATED;VALUE=DATE-TIME:20200911T143404Z
LAST-MODIFIED;VALUE=DATE-TIME:20201110T160728Z
URL:https://gymnasium.ai.ch/nuetzliches/termine/praesentation-der-maturaar
 beiten-6-klassen
END:VEVENT
END:VCALENDAR
