BEGIN:VCALENDAR
VERSION:2.0
PRODID:-//Plone.org//NONSGML plone.app.event//EN
X-WR-TIMEZONE:Europe/Zurich
BEGIN:VEVENT
SUMMARY:Präsentation Maturaarbeiten 6. Gym
DTSTART;VALUE=DATE-TIME:20191212T160000Z
DTEND;VALUE=DATE-TIME:20191212T200000Z
DTSTAMP;VALUE=DATE-TIME:20260423T231753Z
UID:08dbbe55fcaf4617a16775a55ec96788@127.0.0.1:10150
CREATED;VALUE=DATE-TIME:20190707T115233Z
LAST-MODIFIED;VALUE=DATE-TIME:20190707T115238Z
LOCATION:Gymnasium St. Antonius
URL:https://gymnasium.ai.ch/nuetzliches/termine/praesentation-maturaarbeit
 en-6-gym
END:VEVENT
END:VCALENDAR
