BEGIN:VCALENDAR
VERSION:2.0
PRODID:-//Plone.org//NONSGML plone.app.event//EN
X-WR-TIMEZONE:Europe/Zurich
BEGIN:VEVENT
SUMMARY:Präsentation der Maturaarbeiten (6. Klassen)
DTSTART;TZID=Europe/Zurich;VALUE=DATE-TIME:20231214T180000
DTEND;TZID=Europe/Zurich;VALUE=DATE-TIME:20231214T210000
DTSTAMP;VALUE=DATE-TIME:20260424T020645Z
UID:a6c5f5b118bb4b0f8f0edd64c3927c18@127.0.0.1:6081
CREATED;VALUE=DATE-TIME:20231201T073406Z
LAST-MODIFIED;VALUE=DATE-TIME:20231201T073546Z
URL:https://gymnasium.ai.ch/nuetzliches/termine/praesentation-maturaarbeit
 en-6-klassen-1
END:VEVENT
BEGIN:VTIMEZONE
TZID:Europe/Zurich
X-LIC-LOCATION:Europe/Zurich
BEGIN:STANDARD
DTSTART;VALUE=DATE-TIME:20231029T020000
TZNAME:CET
TZOFFSETFROM:+0200
TZOFFSETTO:+0100
END:STANDARD
END:VTIMEZONE
END:VCALENDAR
