BEGIN:VCALENDAR
VERSION:2.0
PRODID:-//Plone.org//NONSGML plone.app.event//EN
X-WR-TIMEZONE:Europe/Zurich
BEGIN:VEVENT
SUMMARY:Präsentation der Maturaarbeiten (6. Klassen)
DTSTART;TZID=Europe/Zurich;VALUE=DATE-TIME:20231213T180000
DTEND;TZID=Europe/Zurich;VALUE=DATE-TIME:20231213T210000
DTSTAMP;VALUE=DATE-TIME:20260423T231701Z
UID:40c5fd3817a74771a67b6f3cc91423f0@127.0.0.1:6081
CREATED;VALUE=DATE-TIME:20231201T073301Z
LAST-MODIFIED;VALUE=DATE-TIME:20231201T073524Z
URL:https://gymnasium.ai.ch/nuetzliches/termine/praesentation-maturaarbeit
 en-6-klassen
END:VEVENT
BEGIN:VTIMEZONE
TZID:Europe/Zurich
X-LIC-LOCATION:Europe/Zurich
BEGIN:STANDARD
DTSTART;VALUE=DATE-TIME:20231029T020000
TZNAME:CET
TZOFFSETFROM:+0200
TZOFFSETTO:+0100
END:STANDARD
END:VTIMEZONE
END:VCALENDAR
