BEGIN:VCALENDAR
VERSION:2.0
PRODID:-//Plone.org//NONSGML plone.app.event//EN
X-WR-TIMEZONE:Europe/Zurich
BEGIN:VEVENT
SUMMARY:Präventionstag: "Von Null auf 100" (3. und 4. Gym)
DTSTART;VALUE=DATE:20190128
DTEND;VALUE=DATE:20190130
DTSTAMP;VALUE=DATE-TIME:20260423T231654Z
UID:add5b544491546e59852bdc3b068ae6f@127.0.0.1:10150
CREATED;VALUE=DATE-TIME:20180928T122851Z
LAST-MODIFIED;VALUE=DATE-TIME:20180928T151130Z
URL:https://gymnasium.ai.ch/nuetzliches/termine/praeventionstag-von-null-a
 uf-100-3-und-4-gym
END:VEVENT
END:VCALENDAR
