BEGIN:VCALENDAR
VERSION:2.0
PRODID:-//Plone.org//NONSGML plone.app.event//EN
X-WR-TIMEZONE:Europe/Zurich
BEGIN:VEVENT
SUMMARY:Präventionstag: “Von Null auf 100“ (3. und 4. Klassen)
DTSTART;VALUE=DATE:20250130
DTEND;VALUE=DATE:20250131
DTSTAMP;VALUE=DATE-TIME:20260423T231650Z
UID:6b6b3b024bf94b65a37d4bd68795b1b2@127.0.0.1:6081
CREATED;VALUE=DATE-TIME:20240703T203345Z
LAST-MODIFIED;VALUE=DATE-TIME:20240703T203354Z
URL:https://gymnasium.ai.ch/nuetzliches/termine/praeventionstag-von-null-a
 uf-100-3-und-4-klassen-1
END:VEVENT
END:VCALENDAR
