BEGIN:VCALENDAR
VERSION:2.0
PRODID:-//Plone.org//NONSGML plone.app.event//EN
X-WR-TIMEZONE:Europe/Zurich
BEGIN:VEVENT
SUMMARY:Präventionstag - “Von Null auf 100“: 3. und 4. Klassen
DTSTART;VALUE=DATE:20230127
DTEND;VALUE=DATE:20230128
DTSTAMP;VALUE=DATE-TIME:20260423T231614Z
UID:cae354f116c642a8aee604c50a3c9f8d@127.0.0.1:6081
CREATED;VALUE=DATE-TIME:20220711T204718Z
LAST-MODIFIED;VALUE=DATE-TIME:20220711T204823Z
URL:https://gymnasium.ai.ch/nuetzliches/termine/praeventionstag-von-null-a
 uf-100-3-und-4-klassen
END:VEVENT
END:VCALENDAR
