BEGIN:VCALENDAR
VERSION:2.0
PRODID:-//Plone.org//NONSGML plone.app.event//EN
X-WR-TIMEZONE:Europe/Zurich
BEGIN:VEVENT
SUMMARY:Präventionsveranstaltung Kantonspolizei AI Digitale Medien (1. Kl
 assen am Vormittag\, 2. Klassen am Nachmittag)
DTSTART;VALUE=DATE:20241001
DTEND;VALUE=DATE:20241002
DTSTAMP;VALUE=DATE-TIME:20260424T005829Z
UID:7f9b7a01ecf24196b70bf874a632a48d@127.0.0.1:6081
CREATED;VALUE=DATE-TIME:20240703T204150Z
LAST-MODIFIED;VALUE=DATE-TIME:20240703T204156Z
URL:https://gymnasium.ai.ch/nuetzliches/termine/praeventionsveranstaltung-
 kantonspolizei-ai-digitale-medien-1-klassen-am-vormittag-2-klassen-am-nach
 mittag
END:VEVENT
END:VCALENDAR
