BEGIN:VCALENDAR
VERSION:2.0
PRODID:-//Plone.org//NONSGML plone.app.event//EN
X-WR-TIMEZONE:Europe/Zurich
BEGIN:VEVENT
SUMMARY:Probetag
DTSTART;VALUE=DATE-TIME:20180126T070000Z
DTEND;VALUE=DATE-TIME:20180126T160000Z
DTSTAMP;VALUE=DATE-TIME:20260424T004608Z
UID:f8ec05814aec47e9ab481a8828ba2378@127.0.0.1:10150
CREATED;VALUE=DATE-TIME:20180109T144320Z
DESCRIPTION:Probetag WPF Theater (08.00 - 17.00 Uhr)
LAST-MODIFIED;VALUE=DATE-TIME:20180109T144544Z
URL:https://gymnasium.ai.ch/nuetzliches/termine/probetag-1
END:VEVENT
END:VCALENDAR
