BEGIN:VCALENDAR
VERSION:2.0
PRODID:-//Plone.org//NONSGML plone.app.event//EN
X-WR-TIMEZONE:Europe/Zurich
BEGIN:VEVENT
SUMMARY:Probetag
DTSTART;VALUE=DATE-TIME:20180127T070000Z
DTEND;VALUE=DATE-TIME:20180127T160000Z
DTSTAMP;VALUE=DATE-TIME:20260423T231316Z
UID:9469c68e73ff4e0e90cff83a1f6c7aea@127.0.0.1:10150
CREATED;VALUE=DATE-TIME:20180109T144825Z
DESCRIPTION:Probetag WPF Theater (08.00 – 17.00 Uhr)
LAST-MODIFIED;VALUE=DATE-TIME:20180109T144844Z
URL:https://gymnasium.ai.ch/nuetzliches/termine/probetag-2
END:VEVENT
END:VCALENDAR
