BEGIN:VCALENDAR
VERSION:2.0
PRODID:-//Plone.org//NONSGML plone.app.event//EN
X-WR-TIMEZONE:Europe/Zurich
BEGIN:VEVENT
SUMMARY:Probetag WPF Theater
DTSTART;VALUE=DATE-TIME:20180307T070000Z
DTEND;VALUE=DATE-TIME:20180307T080000Z
DTSTAMP;VALUE=DATE-TIME:20260423T231514Z
UID:57078a27c71145fdbb76491c496c0a0b@127.0.0.1:10150
CREATED;VALUE=DATE-TIME:20180301T063253Z
DESCRIPTION:Probetag WPF Theater (08.00 – 17.00 Uhr\, Reserve)
LAST-MODIFIED;VALUE=DATE-TIME:20180301T063342Z
URL:https://gymnasium.ai.ch/nuetzliches/termine/probetag-wpf-theater-1
END:VEVENT
END:VCALENDAR
