BEGIN:VCALENDAR
VERSION:2.0
PRODID:-//Plone.org//NONSGML plone.app.event//EN
X-WR-TIMEZONE:Europe/Zurich
BEGIN:VEVENT
SUMMARY:Probetag WPF Theater
DTSTART;VALUE=DATE-TIME:20180303T070000Z
DTEND;VALUE=DATE-TIME:20180303T160000Z
DTSTAMP;VALUE=DATE-TIME:20260424T004726Z
UID:10f72edca6114338be2b92884ec3bc29@127.0.0.1:10150
CREATED;VALUE=DATE-TIME:20180301T062922Z
DESCRIPTION:Probetag WPF Theater (08.00 – 17.00 Uhr)
LAST-MODIFIED;VALUE=DATE-TIME:20180301T062926Z
URL:https://gymnasium.ai.ch/nuetzliches/termine/probetag-wpf-theater
END:VEVENT
END:VCALENDAR
