BEGIN:VCALENDAR
VERSION:2.0
PRODID:-//Plone.org//NONSGML plone.app.event//EN
X-WR-TIMEZONE:Europe/Zurich
BEGIN:VEVENT
SUMMARY:Projektwoche 1. - 4. Klassen (5. Klassen: Sprachaufenthalt)
DTSTART;VALUE=DATE:20211003
DTEND;VALUE=DATE:20211009
DTSTAMP;VALUE=DATE-TIME:20260424T004912Z
UID:d53ce0d6c5574358826654bc4d48def8@127.0.0.1:10150
CREATED;VALUE=DATE-TIME:20210817T071348Z
LAST-MODIFIED;VALUE=DATE-TIME:20210817T071351Z
URL:https://gymnasium.ai.ch/nuetzliches/termine/projektwoche-1-4-klassen-5
 -klassen-sprachaufenthalt
END:VEVENT
END:VCALENDAR
