BEGIN:VCALENDAR
VERSION:2.0
PRODID:-//Plone.org//NONSGML plone.app.event//EN
X-WR-TIMEZONE:Europe/Zurich
BEGIN:VEVENT
SUMMARY:Projektwoche 1. - 5. Klassen
DTSTART;VALUE=DATE:20221003
DTEND;VALUE=DATE:20221008
DTSTAMP;VALUE=DATE-TIME:20260423T231528Z
UID:a686e53186b548d3b971517b90dc7855@127.0.0.1:6081
CREATED;VALUE=DATE-TIME:20220711T200857Z
LAST-MODIFIED;VALUE=DATE-TIME:20220711T200904Z
URL:https://gymnasium.ai.ch/nuetzliches/termine/projektwoche-1-5-klassen-1
END:VEVENT
END:VCALENDAR
