BEGIN:VCALENDAR
VERSION:2.0
PRODID:-//Plone.org//NONSGML plone.app.event//EN
X-WR-TIMEZONE:Europe/Zurich
BEGIN:VEVENT
SUMMARY:Projektwoche 1. – 5. Klassen
DTSTART;VALUE=DATE:20231002
DTEND;VALUE=DATE:20231007
DTSTAMP;VALUE=DATE-TIME:20260423T231512Z
UID:47b6c04a4bdd4e5eaadc220f96ef8f05@127.0.0.1:6081
CREATED;VALUE=DATE-TIME:20230712T083741Z
LAST-MODIFIED;VALUE=DATE-TIME:20230712T083813Z
URL:https://gymnasium.ai.ch/nuetzliches/termine/projektwoche-1-5-klassen-2
END:VEVENT
END:VCALENDAR
