BEGIN:VCALENDAR
VERSION:2.0
PRODID:-//Plone.org//NONSGML plone.app.event//EN
X-WR-TIMEZONE:Europe/Zurich
BEGIN:VEVENT
SUMMARY:Projektwoche 1. – 5. Klassen
DTSTART;VALUE=DATE:20241001
DTEND;VALUE=DATE:20241005
DTSTAMP;VALUE=DATE-TIME:20260423T231512Z
UID:03b200c9f94c4077ad54dd6976d0414e@127.0.0.1:6081
CREATED;VALUE=DATE-TIME:20240703T203839Z
LAST-MODIFIED;VALUE=DATE-TIME:20240703T203843Z
URL:https://gymnasium.ai.ch/nuetzliches/termine/projektwoche-1-5-klassen-3
END:VEVENT
END:VCALENDAR
