BEGIN:VCALENDAR
VERSION:2.0
PRODID:-//Plone.org//NONSGML plone.app.event//EN
X-WR-TIMEZONE:Europe/Zurich
BEGIN:VEVENT
SUMMARY:Projektwoche 1. – 5. Klassen
DTSTART;VALUE=DATE:20250930
DTEND;VALUE=DATE:20251004
DTSTAMP;VALUE=DATE-TIME:20260423T231512Z
UID:644c1a2c0c0147dd82affa7f9f546365@127.0.0.1:6081
CREATED;VALUE=DATE-TIME:20250719T152715Z
LAST-MODIFIED;VALUE=DATE-TIME:20250719T152748Z
URL:https://gymnasium.ai.ch/nuetzliches/termine/projektwoche-1-5-klassen-4
END:VEVENT
END:VCALENDAR
