BEGIN:VCALENDAR
VERSION:2.0
PRODID:-//Plone.org//NONSGML plone.app.event//EN
X-WR-TIMEZONE:Europe/Zurich
BEGIN:VEVENT
SUMMARY:Projektwoche 1.-5. Klassen
DTSTART;VALUE=DATE:20200928
DTEND;VALUE=DATE:20201003
DTSTAMP;VALUE=DATE-TIME:20260423T231514Z
UID:074b492db2cb42faa10948d8dc6bcb30@127.0.0.1:10150
CREATED;VALUE=DATE-TIME:20200911T141332Z
LAST-MODIFIED;VALUE=DATE-TIME:20200911T141336Z
URL:https://gymnasium.ai.ch/nuetzliches/termine/projektwoche-1-5-klassen
END:VEVENT
END:VCALENDAR
