BEGIN:VCALENDAR
VERSION:2.0
PRODID:-//Plone.org//NONSGML plone.app.event//EN
X-WR-TIMEZONE:Europe/Zurich
BEGIN:VEVENT
SUMMARY:Promotionskonferenz 1.-5. Gym
DTSTART;VALUE=DATE-TIME:20180629T074500Z
DTEND;VALUE=DATE-TIME:20180629T140000Z
DTSTAMP;VALUE=DATE-TIME:20260424T005309Z
UID:d86bf3c103ea4345a78c375651af4ce4@127.0.0.1:10150
CREATED;VALUE=DATE-TIME:20180307T095948Z
LAST-MODIFIED;VALUE=DATE-TIME:20180511T065157Z
URL:https://gymnasium.ai.ch/nuetzliches/termine/promotionskonferenz-1-5-gy
 m
END:VEVENT
END:VCALENDAR
