BEGIN:VCALENDAR
VERSION:2.0
PRODID:-//Plone.org//NONSGML plone.app.event//EN
X-WR-TIMEZONE:Europe/Zurich
BEGIN:VEVENT
SUMMARY:Promotionskonferenz
DTSTART;VALUE=DATE:20180124
DTEND;VALUE=DATE:20180126
DTSTAMP;VALUE=DATE-TIME:20260423T231512Z
UID:01495939e5e845faa6f2103b72ecf3fc@127.0.0.1:10150
CREATED;VALUE=DATE-TIME:20180109T144143Z
DESCRIPTION:Promotionskonferenz 2. - 6. Klasse (schulfrei)
LAST-MODIFIED;VALUE=DATE-TIME:20180109T144202Z
URL:https://gymnasium.ai.ch/nuetzliches/termine/promotionskonferenz-1
END:VEVENT
END:VCALENDAR
