BEGIN:VCALENDAR
VERSION:2.0
PRODID:-//Plone.org//NONSGML plone.app.event//EN
X-WR-TIMEZONE:Europe/Zurich
BEGIN:VEVENT
SUMMARY:Promotionskonferenz 3. - 6. Gym: Nachmittag schulfrei
DTSTART;VALUE=DATE-TIME:20200129T123000Z
DTEND;VALUE=DATE-TIME:20200129T160000Z
DTSTAMP;VALUE=DATE-TIME:20260424T005654Z
UID:12bf48ba9c644da58d752b256b3a4a2c@127.0.0.1:10150
CREATED;VALUE=DATE-TIME:20190707T120430Z
LAST-MODIFIED;VALUE=DATE-TIME:20190707T120434Z
URL:https://gymnasium.ai.ch/nuetzliches/termine/promotionskonferenz-3-6-gy
 m-nachmittag-schulfrei
END:VEVENT
END:VCALENDAR
