BEGIN:VCALENDAR
VERSION:2.0
PRODID:-//Plone.org//NONSGML plone.app.event//EN
X-WR-TIMEZONE:Europe/Zurich
BEGIN:VEVENT
SUMMARY:Promotionskonferenz 3. - 6. Klassen (Nachmittag\, schulfrei)
DTSTART;VALUE=DATE:20250129
DTEND;VALUE=DATE:20250130
DTSTAMP;VALUE=DATE-TIME:20260424T005700Z
UID:c24c0a265dbb41d8b5eec1d6cfc997a8@127.0.0.1:6081
CREATED;VALUE=DATE-TIME:20240703T203156Z
LAST-MODIFIED;VALUE=DATE-TIME:20240703T203205Z
URL:https://gymnasium.ai.ch/nuetzliches/termine/promotionskonferenz-3-6-kl
 assen-nachmittag-schulfrei-1
END:VEVENT
END:VCALENDAR
