BEGIN:VCALENDAR
VERSION:2.0
PRODID:-//Plone.org//NONSGML plone.app.event//EN
X-WR-TIMEZONE:Europe/Zurich
BEGIN:VEVENT
SUMMARY:Promotionskonferenz 3. – 6. Klassen (Nachmittag schulfrei)
DTSTART;VALUE=DATE:20260128
DTEND;VALUE=DATE:20260129
DTSTAMP;VALUE=DATE-TIME:20260423T231818Z
UID:9a92e88a638b4dd190d080d19d171ad9@127.0.0.1:6081
CREATED;VALUE=DATE-TIME:20250720T185736Z
LAST-MODIFIED;VALUE=DATE-TIME:20250720T185741Z
URL:https://gymnasium.ai.ch/nuetzliches/termine/promotionskonferenz-3-6-kl
 assen-nachmittag-schulfrei-2
END:VEVENT
END:VCALENDAR
