BEGIN:VCALENDAR
VERSION:2.0
PRODID:-//Plone.org//NONSGML plone.app.event//EN
X-WR-TIMEZONE:Europe/Zurich
BEGIN:VEVENT
SUMMARY:Promotionskonferenz 3. - 6. Klassen (Nachmittag\, schulfrei)
DTSTART;TZID=Europe/Vienna;VALUE=DATE-TIME:20230125T133000
DTEND;TZID=Europe/Vienna;VALUE=DATE-TIME:20230125T170000
DTSTAMP;VALUE=DATE-TIME:20260423T231818Z
UID:a112b18ba7274f40bf4e232e0dd0ac5d@127.0.0.1:6081
CREATED;VALUE=DATE-TIME:20220711T205328Z
LAST-MODIFIED;VALUE=DATE-TIME:20220711T205332Z
URL:https://gymnasium.ai.ch/nuetzliches/termine/promotionskonferenz-3-6-kl
 assen-nachmittag-schulfrei
END:VEVENT
BEGIN:VTIMEZONE
TZID:Europe/Vienna
X-LIC-LOCATION:Europe/Vienna
BEGIN:STANDARD
DTSTART;VALUE=DATE-TIME:20221030T020000
TZNAME:CET
TZOFFSETFROM:+0200
TZOFFSETTO:+0100
END:STANDARD
END:VTIMEZONE
END:VCALENDAR
