BEGIN:VCALENDAR
VERSION:2.0
PRODID:-//Plone.org//NONSGML plone.app.event//EN
X-WR-TIMEZONE:Europe/Zurich
BEGIN:VEVENT
SUMMARY:Promotionskonferenz: Nachmittag schulfrei
DTSTART;VALUE=DATE-TIME:20220126T123000Z
DTEND;VALUE=DATE-TIME:20220126T160000Z
DTSTAMP;VALUE=DATE-TIME:20260423T231828Z
UID:75ff763603cd41db8803f6a14e26bb67@127.0.0.1:10150
CREATED;VALUE=DATE-TIME:20220117T103158Z
LAST-MODIFIED;VALUE=DATE-TIME:20220117T103201Z
URL:https://gymnasium.ai.ch/nuetzliches/termine/promotionskonferenz-nachmi
 ttag-schulfrei
END:VEVENT
END:VCALENDAR
