BEGIN:VCALENDAR
VERSION:2.0
PRODID:-//Plone.org//NONSGML plone.app.event//EN
X-WR-TIMEZONE:Europe/Zurich
BEGIN:VEVENT
SUMMARY:Promotionskonferenz
DTSTART;VALUE=DATE-TIME:20180122T115000Z
DTSTAMP;VALUE=DATE-TIME:20260423T231514Z
UID:e8a2b3eada0e424ab8e237aa21bb30be@127.0.0.1:10150
CREATED;VALUE=DATE-TIME:20180109T142308Z
DESCRIPTION:Promotionskonferenz 1. Klasse (12.50 Uhr)
LAST-MODIFIED;VALUE=DATE-TIME:20180110T070125Z
URL:https://gymnasium.ai.ch/nuetzliches/termine/promotionskonferenz
END:VEVENT
END:VCALENDAR
