BEGIN:VCALENDAR
VERSION:2.0
PRODID:-//Plone.org//NONSGML plone.app.event//EN
X-WR-TIMEZONE:Europe/Zurich
BEGIN:VEVENT
SUMMARY:Redaktionsschluss Antonius
DTSTART;VALUE=DATE-TIME:20180223T160000Z
DTSTAMP;VALUE=DATE-TIME:20260424T004253Z
UID:be189e8532b2422ebb51eb7fc90ef29f@127.0.0.1:10150
CREATED;VALUE=DATE-TIME:20180129T093452Z
DESCRIPTION:Redaktionsschluss Antonius\, Winterausgabe (Oliver Schwarz)
LAST-MODIFIED;VALUE=DATE-TIME:20180129T093455Z
URL:https://gymnasium.ai.ch/nuetzliches/termine/redaktionsschluss-antonius
END:VEVENT
END:VCALENDAR
