BEGIN:VCALENDAR
VERSION:2.0
PRODID:-//Plone.org//NONSGML plone.app.event//EN
X-WR-TIMEZONE:Europe/Zurich
BEGIN:VEVENT
SUMMARY:Roratefeier
DTSTART;VALUE=DATE-TIME:20191206T054000Z
DTEND;VALUE=DATE-TIME:20191206T061000Z
DTSTAMP;VALUE=DATE-TIME:20260423T231220Z
UID:bb3699a210c545b7beec7f2626c99c6c@127.0.0.1:10150
CREATED;VALUE=DATE-TIME:20190707T114945Z
LAST-MODIFIED;VALUE=DATE-TIME:20190707T114950Z
LOCATION:Kirche des Kapuzinerklosters
URL:https://gymnasium.ai.ch/nuetzliches/termine/roratefeier-3
END:VEVENT
END:VCALENDAR
