BEGIN:VCALENDAR
VERSION:2.0
PRODID:-//Plone.org//NONSGML plone.app.event//EN
X-WR-TIMEZONE:Europe/Zurich
BEGIN:VEVENT
SUMMARY:Roratefeier
DTSTART;VALUE=DATE-TIME:20191212T054000Z
DTEND;VALUE=DATE-TIME:20191212T061000Z
DTSTAMP;VALUE=DATE-TIME:20260423T231220Z
UID:da62e80887d84002ba177a89f6883414@127.0.0.1:10150
CREATED;VALUE=DATE-TIME:20190707T115045Z
LAST-MODIFIED;VALUE=DATE-TIME:20190707T115049Z
LOCATION:Kirche des Kapuzinerklosters
URL:https://gymnasium.ai.ch/nuetzliches/termine/roratefeier-4
END:VEVENT
END:VCALENDAR
