BEGIN:VCALENDAR
VERSION:2.0
PRODID:-//Plone.org//NONSGML plone.app.event//EN
X-WR-TIMEZONE:Europe/Zurich
BEGIN:VEVENT
SUMMARY:Roratefeier
DTSTART;VALUE=DATE-TIME:20191218T054000Z
DTEND;VALUE=DATE-TIME:20191218T061000Z
DTSTAMP;VALUE=DATE-TIME:20260423T231219Z
UID:ef19b5af574c4845bd6e250555ed3134@127.0.0.1:10150
CREATED;VALUE=DATE-TIME:20190707T115358Z
LAST-MODIFIED;VALUE=DATE-TIME:20190707T115403Z
LOCATION:Kirche des Kapuzinerklosters
URL:https://gymnasium.ai.ch/nuetzliches/termine/roratefeier-5
END:VEVENT
END:VCALENDAR
