BEGIN:VCALENDAR
VERSION:2.0
PRODID:-//Plone.org//NONSGML plone.app.event//EN
X-WR-TIMEZONE:Europe/Zurich
BEGIN:VEVENT
SUMMARY:Roratefeier
DTSTART;VALUE=DATE-TIME:20181207T054000Z
DTEND;VALUE=DATE-TIME:20181207T061500Z
DTSTAMP;VALUE=DATE-TIME:20260423T231220Z
UID:7e99dc2849eb4e089e47173e0ed5580a@127.0.0.1:10150
CREATED;VALUE=DATE-TIME:20180928T121942Z
LAST-MODIFIED;VALUE=DATE-TIME:20180928T150943Z
LOCATION:Kirche des Kapuzinerklosters
URL:https://gymnasium.ai.ch/nuetzliches/termine/roratefeier
END:VEVENT
END:VCALENDAR
