BEGIN:VCALENDAR
VERSION:2.0
PRODID:-//Plone.org//NONSGML plone.app.event//EN
X-WR-TIMEZONE:Europe/Zurich
BEGIN:VEVENT
SUMMARY:Schachmeisterschaft
DTSTART;VALUE=DATE-TIME:20180306T151500Z
DTEND;VALUE=DATE-TIME:20180306T171500Z
DTSTAMP;VALUE=DATE-TIME:20260423T231216Z
UID:4b68a402845a42c2a22f145774ccec29@127.0.0.1:10150
CREATED;VALUE=DATE-TIME:20180301T063059Z
DESCRIPTION:Gymi-Schachmeisterschaft (16.15 – 18.15 Uhr\, Mensa)
LAST-MODIFIED;VALUE=DATE-TIME:20180301T063103Z
URL:https://gymnasium.ai.ch/nuetzliches/termine/schachmeisterschaft
END:VEVENT
END:VCALENDAR
