BEGIN:VCALENDAR
VERSION:2.0
PRODID:-//Plone.org//NONSGML plone.app.event//EN
X-WR-TIMEZONE:Europe/Zurich
BEGIN:VEVENT
SUMMARY:Schilf
DTSTART;VALUE=DATE:20180207
DTEND;VALUE=DATE:20180209
DTSTAMP;VALUE=DATE-TIME:20260423T231220Z
UID:9403506b895b48b386abfdceaebd3c5a@127.0.0.1:10150
CREATED;VALUE=DATE-TIME:20180129T092027Z
DESCRIPTION:Schulinterne Lehrpersonenfortbildung (schulfrei)
LAST-MODIFIED;VALUE=DATE-TIME:20180129T092030Z
URL:https://gymnasium.ai.ch/nuetzliches/termine/schilf
END:VEVENT
END:VCALENDAR
