BEGIN:VCALENDAR
VERSION:2.0
PRODID:-//Plone.org//NONSGML plone.app.event//EN
X-WR-TIMEZONE:Europe/Zurich
BEGIN:VEVENT
SUMMARY:Schlussgottesdienst
DTSTART;VALUE=DATE-TIME:20220701T060000Z
DTEND;VALUE=DATE-TIME:20220701T070000Z
DTSTAMP;VALUE=DATE-TIME:20260423T231356Z
UID:493c357172bc49aa810495762a751802@127.0.0.1:10150
CREATED;VALUE=DATE-TIME:20220222T080257Z
LAST-MODIFIED;VALUE=DATE-TIME:20220222T080301Z
URL:https://gymnasium.ai.ch/nuetzliches/termine/schlussgottesdienst-3
END:VEVENT
END:VCALENDAR
