BEGIN:VCALENDAR
VERSION:2.0
PRODID:-//Plone.org//NONSGML plone.app.event//EN
X-WR-TIMEZONE:Europe/Zurich
BEGIN:VEVENT
SUMMARY:Schlussgottesdienst
DTSTART;TZID=Europe/Vienna;VALUE=DATE-TIME:20230630T080000
DTEND;TZID=Europe/Vienna;VALUE=DATE-TIME:20230630T090000
DTSTAMP;VALUE=DATE-TIME:20260423T231356Z
UID:9c6a5881577a4ceab862404c4d04b2e0@127.0.0.1:6081
CREATED;VALUE=DATE-TIME:20221012T182834Z
LAST-MODIFIED;VALUE=DATE-TIME:20221012T182840Z
URL:https://gymnasium.ai.ch/nuetzliches/termine/schlussgottesdienst-4
END:VEVENT
BEGIN:VTIMEZONE
TZID:Europe/Vienna
X-LIC-LOCATION:Europe/Vienna
BEGIN:DAYLIGHT
DTSTART;VALUE=DATE-TIME:20230326T030000
TZNAME:CEST
TZOFFSETFROM:+0100
TZOFFSETTO:+0200
END:DAYLIGHT
END:VTIMEZONE
END:VCALENDAR
