BEGIN:VCALENDAR
VERSION:2.0
PRODID:-//Plone.org//NONSGML plone.app.event//EN
X-WR-TIMEZONE:Europe/Zurich
BEGIN:VEVENT
SUMMARY:Schlussgottesdienst
DTSTART;TZID=Europe/Zurich;VALUE=DATE-TIME:20240628T080000
DTEND;TZID=Europe/Zurich;VALUE=DATE-TIME:20240628T090000
DTSTAMP;VALUE=DATE-TIME:20260423T231428Z
UID:a1f16484b36e4f5ea6af9d267e969e7b@127.0.0.1:6081
CREATED;VALUE=DATE-TIME:20240419T094955Z
LAST-MODIFIED;VALUE=DATE-TIME:20240419T095003Z
URL:https://gymnasium.ai.ch/nuetzliches/termine/schlussgottesdienst-5
END:VEVENT
BEGIN:VTIMEZONE
TZID:Europe/Zurich
X-LIC-LOCATION:Europe/Zurich
BEGIN:DAYLIGHT
DTSTART;VALUE=DATE-TIME:20240331T030000
TZNAME:CEST
TZOFFSETFROM:+0100
TZOFFSETTO:+0200
END:DAYLIGHT
END:VTIMEZONE
END:VCALENDAR
