BEGIN:VCALENDAR
VERSION:2.0
PRODID:-//Plone.org//NONSGML plone.app.event//EN
X-WR-TIMEZONE:Europe/Zurich
BEGIN:VEVENT
SUMMARY:Schlussgottesdienst
DTSTART;VALUE=DATE-TIME:20180307T071500Z
DTEND;VALUE=DATE-TIME:20180307T081500Z
DTSTAMP;VALUE=DATE-TIME:20260424T004609Z
UID:88e4af94ac774ab2bd1336ea3a831175@127.0.0.1:10150
CREATED;VALUE=DATE-TIME:20180307T095004Z
LAST-MODIFIED;VALUE=DATE-TIME:20180308T065057Z
URL:https://gymnasium.ai.ch/nuetzliches/termine/schlussgottesdienst
END:VEVENT
END:VCALENDAR
