BEGIN:VCALENDAR
VERSION:2.0
PRODID:-//Plone.org//NONSGML plone.app.event//EN
X-WR-TIMEZONE:Europe/Zurich
BEGIN:VEVENT
SUMMARY:Schlussveranstaltung
DTSTART;VALUE=DATE-TIME:20210702T060000Z
DTEND;VALUE=DATE-TIME:20210702T070000Z
DTSTAMP;VALUE=DATE-TIME:20260424T004420Z
UID:bdc13f0e3d48492d8c2d544f4cc0db8f@127.0.0.1:10150
CREATED;VALUE=DATE-TIME:20210417T152259Z
LAST-MODIFIED;VALUE=DATE-TIME:20210417T152307Z
URL:https://gymnasium.ai.ch/nuetzliches/termine/schlussveranstaltung
END:VEVENT
END:VCALENDAR
