BEGIN:VCALENDAR
VERSION:2.0
PRODID:-//Plone.org//NONSGML plone.app.event//EN
X-WR-TIMEZONE:Europe/Zurich
BEGIN:VEVENT
SUMMARY:Schmutziger Donnerstag (ab 11.55 Uhr schulfrei)
DTSTART;TZID=Europe/Vienna;VALUE=DATE-TIME:20230216T120000
DTEND;TZID=Europe/Vienna;VALUE=DATE-TIME:20230216T120000
DTSTAMP;VALUE=DATE-TIME:20260423T231823Z
UID:83bf19f5545f439a87969c14417f4134@127.0.0.1:6081
CREATED;VALUE=DATE-TIME:20221012T184101Z
LAST-MODIFIED;VALUE=DATE-TIME:20221012T184301Z
URL:https://gymnasium.ai.ch/nuetzliches/termine/schmutziger-donnerstag-sch
 ulfrei-ab-11-55-uhr
END:VEVENT
BEGIN:VTIMEZONE
TZID:Europe/Vienna
X-LIC-LOCATION:Europe/Vienna
BEGIN:STANDARD
DTSTART;VALUE=DATE-TIME:20221030T020000
TZNAME:CET
TZOFFSETFROM:+0200
TZOFFSETTO:+0100
END:STANDARD
END:VTIMEZONE
END:VCALENDAR
